BEGIN:VCALENDAR
VERSION:2.0
PRODID:-//eventon.com NONSGML v1.0//EN
BEGIN:VEVENT
UID:69e7513bbc8e9
DTSTAMP:20260421T052811
DTSTART:20261026T183000Z
DTEND:20261026T213000Z
TZID:America/New_York
LOCATION:Perry&#039;s Restaurant 1210 Annapolis Road
SUMMARY:Poe's Last Stanza at Perry's Restaurant
DESCRIPTION: Do or Die Mysteries annual salute to the father of the modern detective story!   Poe&#8217;s Last Stanza It&#8217;s Do or Die&#8217;s annual Halloween tribute to Edgar Allan Poe.  This is not a murder mystery show\,  but it does retain the comic and interactive elements of Do or Die&#8217;s murder mystery[..]\nhttps://doordiemystery.com/events/poes-last-stanza-at-perrys-restaurant-102626/
URL:https://doordiemystery.com/events/poes-last-stanza-at-perrys-restaurant-102626/
END:VEVENT
END:VCALENDAR