BEGIN:VCALENDAR
VERSION:2.0
PRODID:-//eventon.com NONSGML v1.0//EN
BEGIN:VEVENT
UID:69e73bcce090a
DTSTAMP:20260421T035644
DTSTART:20261116T183000Z
DTEND:20261116T213000Z
TZID:America/New_York
LOCATION:Perry&#039;s Restaurant 1210 Annapolis Road
SUMMARY:Pinch of Death at Perry's Restaurant
DESCRIPTION: This month&#8217;s Monday Night Mysteries Show Pinch of Death written by Amanda Gunther Variety may be the spice of life\,  but a dash of scandal\,  a hint of greed\,  and one big family secret may all add up to the perfect recipe for disaster or death at McGourmet Spice Company on[..]\nhttps://doordiemystery.com/events/pinch-of-death-1116/
URL:https://doordiemystery.com/events/pinch-of-death-1116/
END:VEVENT
END:VCALENDAR