BEGIN:VCALENDAR
VERSION:2.0
PRODID:-//eventon.com NONSGML v1.0//EN
BEGIN:VEVENT
UID:69e7513c2f351
DTSTAMP:20260421T052812
DTSTART:20260713T183000Z
DTEND:20260713T213000Z
TZID:America/New_York
LOCATION:Perry&#039;s Restaurant 1210 Annapolis Road
SUMMARY:Resigned To Murder at Perry's Restaurant
DESCRIPTION: This month&#8217;s Monday Night Mysteries Show Resigned To Murder In honor of the country turning 250 years old\,  we&#8217;re taking it way back- all the way back to our beloved founding father! On the night that George Washington rode from Fraunces Tavern in New York to address the continental congress\, [..]\nhttps://doordiemystery.com/events/resigned-to-murder-perrys-restaurant-071326/
URL:https://doordiemystery.com/events/resigned-to-murder-perrys-restaurant-071326/
END:VEVENT
END:VCALENDAR