BEGIN:VCALENDAR
VERSION:2.0
PRODID:-//eventon.com NONSGML v1.0//EN
BEGIN:VEVENT
UID:69e73a777e90c
DTSTAMP:20260421T035103
DTSTART:20260511T183000Z
DTEND:20260511T213000Z
TZID:America/New_York
LOCATION:Perry&#039;s Restaurant 1210 Annapolis Road
SUMMARY:Detective Mom at Perry's Restaurant
DESCRIPTION: This month&#8217;s Monday Night Mysteries Show Detective Mom When the award &#8216;Mother of the Year&#8217; is up for grabs\,  no feat is too big\,  no stakes are too high. It&#8217;s a coveted award that some mother&#8217;s would just kill to get their hands on! Remember\,  Mother knows best\,  and if[..]\nhttps://doordiemystery.com/events/detective-mom-at-perrys-restaurant-051126/
URL:https://doordiemystery.com/events/detective-mom-at-perrys-restaurant-051126/
END:VEVENT
END:VCALENDAR