BEGIN:VCALENDAR
VERSION:2.0
PRODID:-//eventon.com NONSGML v1.0//EN
BEGIN:VEVENT
UID:69e7399635f92
DTSTAMP:20260421T034718
DTSTART:20250616T183000Z
DTEND:20250616T213000Z
TZID:America/New_York
LOCATION:Perry&#039;s Restaurant 1210 Annapolis Road
SUMMARY:Curl Up and Die at Perry's Restaurant
DESCRIPTION: All ticket sales are final. We do not issue refunds or exchanges. Curl Up and Die\,  by CJ Crowe. It&#8217;s a hair raising murder at a fashion style off. &nbsp; The evening&#8217;s schedule for Monday Night Mysteries 6:00-6:30pm Check In/Orders Taken/Dinner Served. Please arrive no later than 6:30. Show follows[..]\nhttps://doordiemystery.com/events/curl-up-and-die-at-perrys-restaurant-061625/
URL:https://doordiemystery.com/events/curl-up-and-die-at-perrys-restaurant-061625/
END:VEVENT
END:VCALENDAR